BEGIN:VCALENDAR
VERSION:2.0
METHOD:PUBLISH
BEGIN:VEVENT
UID:WILD_APRICOT_EVENT_1954493_SESSION_1
DTSTART:20150903T140000Z
DTEND:20150904T140000Z
SUMMARY:BPW Caboolture
LOCATION:Centenary Lakes Function Centre
DESCRIPTION:https://www.bpw.com.au/event-1954493\n\n\n\n  \nBPW Caboolture Breakfast\n \n\n  \n\n\n  \n\n\n                          Yvette Adams      \n      \n   \n\n\n  Don't miss out!\n  \nPlease book here.\n
DTSTAMP:20200229T222948Z
END:VEVENT
END:VCALENDAR
